BEGIN:VCALENDAR
PRODID:-//Microsoft Corporation//Outlook 12.0 MIMEDIR//EN
VERSION:2.0
CALSCALE:GREGORIAN
BEGIN:VEVENT
UID: 1f1f4281-afd2-47cb-b788-983112b2734b
SUMMARY:9.kl. matemaatika e-katseeksam
DTSTAMP:20260407T083000
DTSTART:20260407T083000
DTEND:20260407T120000
LOCATION:
DESCRIPTION: <p><strong>Link: </strong>https://saarepeedikool.ee/et/sundmuste-kalender/9kl-matemaatika-e-katseeksam</p><p><strong>Hind: </strong></p>
STATUS:CONFIRMED
SEQUENCE:3
X-ALT-DESC;FMTTYPE=text/html:<p><strong>Link: </strong>https://saarepeedikool.ee/et/sundmuste-kalender/9kl-matemaatika-e-katseeksam</p><p><strong>Hind: </strong></p>
X-MICROSOFT-CDO-BUSYSTATUS:OOF
X-MICROSOFT-CDO-IMPORTANCE:1
X-MICROSOFT-DISALLOW-COUNTER:FALSE
X-MS-OLK-ALLOWEXTERNCHECK:TRUE
X-MS-OLK-CONFTYPE:0
X-MICROSOFT-CDO-ALLDAYEVENT:
X-MICROSOFT-MSNCALENDAR-ALLDAYEVENT:
END:VEVENT
END:VCALENDAR