BEGIN:VCALENDAR
PRODID:-//Microsoft Corporation//Outlook 12.0 MIMEDIR//EN
VERSION:2.0
CALSCALE:GREGORIAN
BEGIN:VEVENT
UID: 4ef08ca3-0186-407a-9ecf-fa50051035ab
SUMMARY:Kolmas klass Anne Maalaga Olustveres
DTSTAMP:20260402T083000
DTSTART:20260402T083000
DTEND:20260402T110500
LOCATION:Olustvere
DESCRIPTION: <p><strong>Link: </strong>https://saarepeedikool.ee/et/sundmuste-kalender/kolmas-klass-anne-maalaga-olustveres</p><p><strong>Hind: </strong></p>
STATUS:CONFIRMED
SEQUENCE:3
X-ALT-DESC;FMTTYPE=text/html:<p><strong>Link: </strong>https://saarepeedikool.ee/et/sundmuste-kalender/kolmas-klass-anne-maalaga-olustveres</p><p><strong>Hind: </strong></p>
X-MICROSOFT-CDO-BUSYSTATUS:OOF
X-MICROSOFT-CDO-IMPORTANCE:1
X-MICROSOFT-DISALLOW-COUNTER:FALSE
X-MS-OLK-ALLOWEXTERNCHECK:TRUE
X-MS-OLK-CONFTYPE:0
X-MICROSOFT-CDO-ALLDAYEVENT:
X-MICROSOFT-MSNCALENDAR-ALLDAYEVENT:
END:VEVENT
END:VCALENDAR